BEGIN:VCALENDAR
VERSION:2.0
PRODID:-//Swim England - East Midlands - ECPv6.15.20//NONSGML v1.0//EN
CALSCALE:GREGORIAN
METHOD:PUBLISH
X-ORIGINAL-URL:https://eastmidlandswimming.org
X-WR-CALDESC:Events for Swim England - East Midlands
REFRESH-INTERVAL;VALUE=DURATION:PT1H
X-Robots-Tag:noindex
X-PUBLISHED-TTL:PT1H
BEGIN:VTIMEZONE
TZID:UTC
BEGIN:STANDARD
TZOFFSETFROM:+0000
TZOFFSETTO:+0000
TZNAME:UTC
DTSTART:20220101T000000
END:STANDARD
END:VTIMEZONE
BEGIN:VEVENT
DTSTART;TZID=UTC:20240330T100000
DTEND;TZID=UTC:20240330T170000
DTSTAMP:20260419T222607
CREATED:20240220T091616Z
LAST-MODIFIED:20240311T133257Z
UID:3910-1711792800-1711818000@eastmidlandswimming.org
SUMMARY:Distance Time Trial 2024
DESCRIPTION:All information can be found here: https://www.emswimchamps.org.uk/Events/LongDistanceTimeTrial2024/index  \nTechnical Officials sign up: https://swim-meet.com/Availability/?m=2668 \nEvent Volunteer sign up: https://swim-meet.com/Availability/?m=2669
URL:https://eastmidlandswimming.org/event/distance-time-trial-2024/
LOCATION:Loughborough University Swimming Pool\, Epinal Way\, Loughborough\, LE11 3TU\, United Kingdom
CATEGORIES:Swimming
END:VEVENT
BEGIN:VEVENT
DTSTART;TZID=UTC:20231103T180000
DTEND;TZID=UTC:20231105T180000
DTSTAMP:20260419T222607
CREATED:20231004T184500Z
LAST-MODIFIED:20231004T184638Z
UID:3610-1699034400-1699207200@eastmidlandswimming.org
SUMMARY:Regional Short Course Championships 2023
DESCRIPTION:Event Website: https://www.emswimchamps.org.uk/ \nOfficials and Event Volunteer Sign up: Regional Short Course 2023 – Officials & Event Volunteers \nSpectators: Ticket purchase information will be circulated once the accepted entries have been made available \nEvent merchandise:\nPre-order is available via Sporty Swim: https://sportyswim.co.uk/collections/east-midlands-short-course-champs-2023
URL:https://eastmidlandswimming.org/event/regional-short-course-championships-2023/
LOCATION:Harvey Hadden Sports Village
CATEGORIES:Swimming
END:VEVENT
BEGIN:VEVENT
DTSTART;TZID=UTC:20230722T080000
DTEND;TZID=UTC:20230723T170000
DTSTAMP:20260419T222607
CREATED:20230710T095701Z
LAST-MODIFIED:20230710T095701Z
UID:3345-1690012800-1690131600@eastmidlandswimming.org
SUMMARY:Summer Festival of Swimming
DESCRIPTION:All information can be found on the events web page \nOfficials sign up \nEvent volunteer sign up \n 
URL:https://eastmidlandswimming.org/event/summer-festival-of-swimming/
LOCATION:Moorways Sports Village
CATEGORIES:Swimming
END:VEVENT
BEGIN:VEVENT
DTSTART;TZID=UTC:20230408T110000
DTEND;TZID=UTC:20230408T170000
DTSTAMP:20260419T222607
CREATED:20230121T074206Z
LAST-MODIFIED:20230127T133040Z
UID:2650-1680951600-1680973200@eastmidlandswimming.org
SUMMARY:Distance Time Trial 2023
DESCRIPTION:This is a level 1 licensed time trial to give a distance opportunity to swimmers within the qualifying window for the British Summer Championships and Home Nation Championships. A younger age group has been included to also give experience to these swimmers. While priority is given to swimmers from the East Midlands entries will be considered from members from outside of the Region.
URL:https://eastmidlandswimming.org/event/distance-time-trial-2023/
LOCATION:Loughborough University Swimming Pool\, Epinal Way\, Loughborough\, LE11 3TU\, United Kingdom
CATEGORIES:Swimming
END:VEVENT
END:VCALENDAR