BEGIN:VCALENDAR
VERSION:2.0
PRODID:-//Swim England - East Midlands - ECPv6.15.20//NONSGML v1.0//EN
CALSCALE:GREGORIAN
METHOD:PUBLISH
X-ORIGINAL-URL:https://eastmidlandswimming.org
X-WR-CALDESC:Events for Swim England - East Midlands
REFRESH-INTERVAL;VALUE=DURATION:PT1H
X-Robots-Tag:noindex
X-PUBLISHED-TTL:PT1H
BEGIN:VTIMEZONE
TZID:UTC
BEGIN:STANDARD
TZOFFSETFROM:+0000
TZOFFSETTO:+0000
TZNAME:UTC
DTSTART:20230101T000000
END:STANDARD
END:VTIMEZONE
BEGIN:VEVENT
DTSTART;TZID=UTC:20240330T100000
DTEND;TZID=UTC:20240330T170000
DTSTAMP:20260421T153741
CREATED:20240220T091616Z
LAST-MODIFIED:20240311T133257Z
UID:3910-1711792800-1711818000@eastmidlandswimming.org
SUMMARY:Distance Time Trial 2024
DESCRIPTION:All information can be found here: https://www.emswimchamps.org.uk/Events/LongDistanceTimeTrial2024/index  \nTechnical Officials sign up: https://swim-meet.com/Availability/?m=2668 \nEvent Volunteer sign up: https://swim-meet.com/Availability/?m=2669
URL:https://eastmidlandswimming.org/event/distance-time-trial-2024/
LOCATION:Loughborough University Swimming Pool\, Epinal Way\, Loughborough\, LE11 3TU\, United Kingdom
CATEGORIES:Swimming
END:VEVENT
END:VCALENDAR