BEGIN:VCALENDAR
VERSION:2.0
PRODID:-//Swim England - East Midlands - ECPv6.15.20//NONSGML v1.0//EN
CALSCALE:GREGORIAN
METHOD:PUBLISH
X-WR-CALNAME:Swim England - East Midlands
X-ORIGINAL-URL:https://eastmidlandswimming.org
X-WR-CALDESC:Events for Swim England - East Midlands
REFRESH-INTERVAL;VALUE=DURATION:PT1H
X-Robots-Tag:noindex
X-PUBLISHED-TTL:PT1H
BEGIN:VTIMEZONE
TZID:UTC
BEGIN:STANDARD
TZOFFSETFROM:+0000
TZOFFSETTO:+0000
TZNAME:UTC
DTSTART:20230101T000000
END:STANDARD
END:VTIMEZONE
BEGIN:VEVENT
DTSTART;TZID=UTC:20241013T093000
DTEND;TZID=UTC:20241013T170000
DTSTAMP:20260421T023747
CREATED:20240730T104617Z
LAST-MODIFIED:20240730T104617Z
UID:4487-1728811800-1728838800@eastmidlandswimming.org
SUMMARY:Midlands Para-Swimming Development Meet
DESCRIPTION:All meet information and the event entry form can be accessed here: \nCompetitions & Results
URL:https://eastmidlandswimming.org/event/midlands-para-swimming-development-meet/
CATEGORIES:Para-Swimming
END:VEVENT
END:VCALENDAR