BEGIN:VCALENDAR
VERSION:2.0
PRODID:-//Swim England - East Midlands - ECPv6.15.20//NONSGML v1.0//EN
CALSCALE:GREGORIAN
METHOD:PUBLISH
X-ORIGINAL-URL:https://eastmidlandswimming.org
X-WR-CALDESC:Events for Swim England - East Midlands
REFRESH-INTERVAL;VALUE=DURATION:PT1H
X-Robots-Tag:noindex
X-PUBLISHED-TTL:PT1H
BEGIN:VTIMEZONE
TZID:UTC
BEGIN:STANDARD
TZOFFSETFROM:+0000
TZOFFSETTO:+0000
TZNAME:UTC
DTSTART:20220101T000000
END:STANDARD
END:VTIMEZONE
BEGIN:VEVENT
DTSTART;TZID=UTC:20231210T080000
DTEND;TZID=UTC:20231210T163000
DTSTAMP:20260419T233500
CREATED:20231019T165352Z
LAST-MODIFIED:20231019T165352Z
UID:3645-1702195200-1702225800@eastmidlandswimming.org
SUMMARY:Open Masters & Senior Age Group Championships 2023
DESCRIPTION:Conditions and Schedule  \nEntry 
URL:https://eastmidlandswimming.org/event/open-masters-senior-age-group-championships-2023/
LOCATION:Moorways Sports Village
CATEGORIES:Masters Swimming
END:VEVENT
END:VCALENDAR