BEGIN:VCALENDAR
VERSION:2.0
PRODID:-//Swim England - East Midlands - ECPv6.15.20//NONSGML v1.0//EN
CALSCALE:GREGORIAN
METHOD:PUBLISH
X-WR-CALNAME:Swim England - East Midlands
X-ORIGINAL-URL:https://eastmidlandswimming.org
X-WR-CALDESC:Events for Swim England - East Midlands
REFRESH-INTERVAL;VALUE=DURATION:PT1H
X-Robots-Tag:noindex
X-PUBLISHED-TTL:PT1H
BEGIN:VTIMEZONE
TZID:UTC
BEGIN:STANDARD
TZOFFSETFROM:+0000
TZOFFSETTO:+0000
TZNAME:UTC
DTSTART:20220101T000000
END:STANDARD
END:VTIMEZONE
BEGIN:VEVENT
DTSTART;VALUE=DATE:20230526
DTEND;VALUE=DATE:20230527
DTSTAMP:20260420T033545
CREATED:20230217T162937Z
LAST-MODIFIED:20230217T162937Z
UID:2950-1685059200-1685145599@eastmidlandswimming.org
SUMMARY:Swim England Assistant Swimming Coach
DESCRIPTION:Course booking close on 18th May 2023 \nCorby East Midlands International Pool – course information \nAll prices shown on the IoS website are RRP club members must follow the club offer process to book at the club offer rate. \nAll SwimMark accredited clubs are also reminded of the bursaries available for courses: https://eastmidlandswimming.org/clubs/bursariesandfunding/
URL:https://eastmidlandswimming.org/event/swim-england-assistant-swimming-coach-3/
LOCATION:Corby
CATEGORIES:Assistant Coach & Coach courses
END:VEVENT
BEGIN:VEVENT
DTSTART;VALUE=DATE:20230427
DTEND;VALUE=DATE:20230428
DTSTAMP:20260420T033545
CREATED:20230217T162702Z
LAST-MODIFIED:20230217T162702Z
UID:2948-1682553600-1682639999@eastmidlandswimming.org
SUMMARY:Swim England Swimming Coach
DESCRIPTION:Course booking close on 20th April 2023 \nLammas Leisure Centre – course information \nAll prices shown on the IoS website are RRP club members must follow the club offer process to book at the club offer rate. \nAll SwimMark accredited clubs are also reminded of the bursaries available for courses: https://eastmidlandswimming.org/clubs/bursariesandfunding/
URL:https://eastmidlandswimming.org/event/swim-england-swimming-coach/
LOCATION:Lammas Leisure Centre
CATEGORIES:Assistant Coach & Coach courses
END:VEVENT
BEGIN:VEVENT
DTSTART;VALUE=DATE:20230418
DTEND;VALUE=DATE:20230419
DTSTAMP:20260420T033545
CREATED:20230217T161113Z
LAST-MODIFIED:20230217T161159Z
UID:2942-1681776000-1681862399@eastmidlandswimming.org
SUMMARY:Swim England Assistant Swimming Coach
DESCRIPTION:Course booking closes on 11th April 2023 \nLoughborough Leisure Centre – course information \nAll prices shown on the IoS website are RRP club members must follow the club offer process to book at the club offer rate. \nAll SwimMark accredited clubs are also reminded of the bursaries available for courses: https://eastmidlandswimming.org/clubs/bursariesandfunding/
URL:https://eastmidlandswimming.org/event/2942/
LOCATION:Loughborough Leisure Centre
CATEGORIES:Assistant Coach & Coach courses
END:VEVENT
BEGIN:VEVENT
DTSTART;VALUE=DATE:20230418
DTEND;VALUE=DATE:20230419
DTSTAMP:20260420T033545
CREATED:20230217T160856Z
LAST-MODIFIED:20230217T162157Z
UID:2940-1681776000-1681862399@eastmidlandswimming.org
SUMMARY:Swim England Water Polo Coach
DESCRIPTION:Course booking close on 11th April 2023 \nHucknall Leisure Centre – course information \nAll prices shown on the IoS website are RRP club members must follow the club offer process to book at the club offer rate. \nAll SwimMark accredited clubs are also reminded of the bursaries available for courses: https://eastmidlandswimming.org/clubs/bursariesandfunding/
URL:https://eastmidlandswimming.org/event/swim-england-water-polo-coach/
LOCATION:Hucknall
CATEGORIES:Assistant Coach & Coach courses
END:VEVENT
BEGIN:VEVENT
DTSTART;TZID=UTC:20230411T080000
DTEND;TZID=UTC:20230411T170000
DTSTAMP:20260420T033545
CREATED:20230217T160555Z
LAST-MODIFIED:20230217T160555Z
UID:2937-1681200000-1681232400@eastmidlandswimming.org
SUMMARY:Swim England Assistant Swimming Coach
DESCRIPTION:Course booking closes on 4th April 2023 \nHucknall Leisure Centre – course information \nAll prices shown on the IoS website are RRP club members must follow the club offer process to book at the club offer rate. \nAll SwimMark accredited clubs are also reminded of the bursaries available for courses: https://eastmidlandswimming.org/clubs/bursariesandfunding/
URL:https://eastmidlandswimming.org/event/swim-england-assistant-swimming-coach-2/
LOCATION:Hucknall
CATEGORIES:Assistant Coach & Coach courses
END:VEVENT
BEGIN:VEVENT
DTSTART;VALUE=DATE:20230223
DTEND;VALUE=DATE:20230224
DTSTAMP:20260420T033545
CREATED:20230203T145943Z
LAST-MODIFIED:20230203T150036Z
UID:2876-1677110400-1677196799@eastmidlandswimming.org
SUMMARY:Swim England Assistant Swimming Coach
DESCRIPTION:Course booking close on 16th February 2023 \nLammas Leisure Centre – course information \nAll prices shown on the IoS website are RRP club members must follow the club offer process to book at the club offer rate. \nAll SwimMark accredited clubs are also reminded of the bursaries available for courses: https://eastmidlandswimming.org/clubs/bursariesandfunding/
URL:https://eastmidlandswimming.org/event/swim-england-assistant-swimming-coach/
LOCATION:Lammas Leisure Centre
CATEGORIES:Assistant Coach & Coach courses
END:VEVENT
END:VCALENDAR